BEGIN:VCALENDAR
VERSION:2.0
PRODID:-//ChamberMaster//Event Calendar 2.0//EN
METHOD:PUBLISH
X-PUBLISHED-TTL:P3D
REFRESH-INTERVAL:P3D
CALSCALE:GREGORIAN
BEGIN:VEVENT
DTSTART:20260421T000000Z
DTEND:20260421T020000Z
X-MICROSOFT-CDO-ALLDAYEVENT:FALSE
SUMMARY:Sessy Nails 10th Anniversary
DESCRIPTION:Sessy Nails just went through a major remodel to celebrate their 10 years in business\, so we have TWO things to celebrate with them!  Being in a competitive business for 10 years plus surviving COVID is a testimony to owners Ly and Tom and their amazing salon and equally amazing customer service.   I've been a client for years and will attest to both!  The celebration will be on Monday\, April 20th (their actual anniversary!) from 5:00-7:00pm.   They are located at 1160 E. Imperial Hwy\, Placentia where Imperial Hwy\, Rose and Golden meet.  Don't forget\, Golden is closed at the bridge so you'll need to come in from Imperial or Rose  \n\n \n\nWe hope you can join us for this major milestone!  Don't forget to bring plenty of business cards!
X-ALT-DESC;FMTTYPE=text/html:<div class="x_elementToProof" data-olk-copy-source="MessageBody" style="border: 0px\; font-variant-numeric: inherit\; font-variant-east-asian: inherit\; font-variant-alternates: inherit\; font-variant-position: inherit\; font-variant-emoji: inherit\; font-stretch: inherit\; font-size: 12pt\; line-height: inherit\; font-family: Aptos\, Aptos_EmbeddedFont\, Aptos_MSFontService\, Calibri\, Helvetica\, sans-serif\, serif\, EmojiFont\; font-optical-sizing: inherit\; font-size-adjust: inherit\; font-kerning: inherit\; font-feature-settings: inherit\; font-variation-settings: inherit\; font-language-override: inherit\; margin: 0px\; padding: 0px\; vertical-align: baseline\; background-color: rgb(255\, 255\, 255)\;">Sessy Nails just went through a major remodel to celebrate their 10 years in business\, so we have TWO things to celebrate with them!&nbsp\; Being in a competitive business for 10 years plus surviving COVID is a&nbsp\;testimony to owners Ly and Tom and their amazing salon and equally amazing customer service.&nbsp\; &nbsp\;I&#39\;ve been a client for years and will attest to both!&nbsp\; The celebration will be on Monday\, April 20<sup>th</sup>&nbsp\;(their actual anniversary!) from 5:00-7:00pm.&nbsp\; &nbsp\;They are located at 1160 E. Imperial Hwy\, Placentia where Imperial Hwy\, Rose and Golden meet.&nbsp\; Don&#39\;t forget\, Golden is closed at the bridge so you&#39\;ll need to come in from Imperial or Rose &#128578\;</div>\n\n<div class="x_elementToProof" style="border: 0px\; font-variant-numeric: inherit\; font-variant-east-asian: inherit\; font-variant-alternates: inherit\; font-variant-position: inherit\; font-variant-emoji: inherit\; font-stretch: inherit\; font-size: 12pt\; line-height: inherit\; font-family: Aptos\, Aptos_EmbeddedFont\, Aptos_MSFontService\, Calibri\, Helvetica\, sans-serif\, serif\, EmojiFont\; font-optical-sizing: inherit\; font-size-adjust: inherit\; font-kerning: inherit\; font-feature-settings: inherit\; font-variation-settings: inherit\; font-language-override: inherit\; margin: 0px\; padding: 0px\; vertical-align: baseline\; background-color: rgb(255\, 255\, 255)\;">&nbsp\;</div>\n\n<div class="x_elementToProof" style="border: 0px\; font-variant-numeric: inherit\; font-variant-east-asian: inherit\; font-variant-alternates: inherit\; font-variant-position: inherit\; font-variant-emoji: inherit\; font-stretch: inherit\; font-size: 12pt\; line-height: inherit\; font-family: Aptos\, Aptos_EmbeddedFont\, Aptos_MSFontService\, Calibri\, Helvetica\, sans-serif\, serif\, EmojiFont\; font-optical-sizing: inherit\; font-size-adjust: inherit\; font-kerning: inherit\; font-feature-settings: inherit\; font-variation-settings: inherit\; font-language-override: inherit\; margin: 0px\; padding: 0px\; vertical-align: baseline\; background-color: rgb(255\, 255\, 255)\;">We hope you can join us for this major milestone!&nbsp\; Don&#39\;t forget to bring plenty of business cards!</div>\n
LOCATION:1160 E. Imperial Hwy\, Placentia
UID:e.2730.14502
SEQUENCE:3
DTSTAMP:20260425T161454Z
URL:https://business.placentiachamber.com/events/details/sessy-nails-10th-anniversary-14502
END:VEVENT

END:VCALENDAR
